Workbook

Sheet ข้อ O 6
A2: แผนและความก้าวหน้าในการดำเนินงานและการใช้งบประมาณ
A3: ตามแผนการดำเนินงาน ไตรมาสที่ 1 - 2 ประจำปีงบประมาณ พ.ศ. 2569
A5: ลำดับที่ | B5: โครงการ/กิจกรรม | C5: งบประมาณ | D5: ระยะเวลาตามแผนการดำเนินการ | E5: ผลการเบิกจ่าย | F5: ผลการดำเนินการ
E6: (บาท) | F6: ดำเนินการ | G6: อยู่ระหว่าง | H6: ยังไม่ได้
F7: แล้วเสร็จ | G7: ดำเนินการ | H7: ดำเนินการ
A8: 1 | B8: โครงการร่วมงานรัฐพิธี ศาสนพิธี | C8: 120000 | D8: ต.ค.68 - ก.ย. 69
B9: พระราชพิธี หรือวันสำคัญของชาติ
B10: ตามคำสั่งหรือนโยบายของรัฐบาล
B11: (ตามเทศบัญญัติ ฯ ปี 69 หน้า 22)
A12: 2 | B12: โครงการฝึกอบรมทัศนศึกษาดูงานของ | C12: 200000 | D12: พ.ย. 68 - ส.ค. 69 | H12: P
B13: คณะผู้บริหาร สมาชิกสภาเทศบาล
B14: พนักงานเทศบาล ลูกจ้าง ผู้นำชุมชน
B15: และผู้สังเกตการณ์
B16: (ตามเทศบัญญัติ ฯ ปี 69 หน้า 25)
A17: 3 | B17: โครงการฝึกอบรมผู้ปฏิบัติการเลือกตั้ง | C17: 25000 | D17: ต.ค.68 - ก.ย. 69 | H17: P
B18: (ตามเทศบัญญัติ ฯ ปี 69 หน้า 24)
A19: 4 | B19: จ่ายเบี้ยยังชีพผู้สูงอายุ | C19: 7172400 | D19: ต.ค.68 - ก.ย. 69 | E19: 5251100 | G19: P
B20: (ตามเทศบัญญัติ ฯ ปี 69 หน้า 115)
A21: 5 | B21: จ่ายเบี้ยยังชีพคนพิการ | C21: 1864800 | D21: ต.ค.68 - ก.ย. 69 | E21: 1434000 | G21: P
B22: พัฒนาศักยภาพของบุคลากร
B23: (ตามเทศบัญญัติ ฯ ปี 69 หน้า 116)
A24: 6 | B24: จ่ายเบี้ยยังชีพให้ผู้ป่วยเอดส์ | C24: 174000 | D24: ต.ค.68 - ก.ย. 69 | E24: 111500 | G24: P
B25: (ตามเทศบัญญัติ ฯ ปี 69 หน้า 116)
A26: 7 | B26: โครงการหลักประกันสุขภาพ | C26: 180000 | D26: ต.ค.68 - ก.ย. 69 | E26: 177050.25 | F26: P
B27: (ตามเทศบัญญัติ ฯ ปี 69 หน้า 118)
A28: 8 | B28: โครงการเตรียมความพร้อมเพื่อจัด | C28: 25000 | D28: มี.ค. - พ.ค. 2569 | H28: P
B29: การไฟป่าและหมอกควัน
B30: (ตามเทศบัญญัติ ฯ ปี 69 หน้า 43)
A31: 9 | B31: โครงการฝึกอบรมทบทวนอาสาสมัคร | C31: 80000 | D31: ก.พ. - พ.ค. 2569 | H31: P
B32: ป้องกันภัยฝ่ายพลเรือน (อปพร.)
B33: (ตามเทศบัญญัติ ฯ ปี 69 หน้า 44)
A34: 10 | B34: โครงการรณรงค์ป้องกันอุบัติเหตุบน | C34: 15000 | D34: ธ.ค. 68 - เม.ย. 69 | H34: P
B35: ท้องถนนสร้างความปลอดภัยในชุมชน
B36: (ตามเทศบัญญัติ ฯ ปี 69 หน้า 45)
A37: 11 | B37: โครงการรณรงค์และป้องกันอุบัติภัย | C37: 10000 | D37: ธ.ค. 68 - เม.ย. 69 | E37: 1100 | G37: P
B38: ทางถนนในช่วงเทศกาล
B39: (ตามเทศบัญญัติ ฯ ปี 69 หน้า 46)
A43: ลำดับที่ | B43: โครงการ/กิจกรรม | C43: งบประมาณ | D43: ระยะเวลาตามแผนการดำเนินการ | E43: ผลการเบิกจ่าย | F43: ผลการดำเนินการ
E44: (บาท) | F44: ดำเนินการ | G44: อยู่ระหว่าง | H44: ยังไม่ได้
F45: แล้วเสร็จ | G45: ดำเนินการ | H45: ดำเนินการ
...

Sheet ย2 ศึกษา
P1: แบบ ผด. 02
A2: บัญชีโครงการ/กิจกรรม/งบประมาณ
A3: แผนดำเนินงานประจำปีงบประมาณ พ.ศ. 2569
A4: เทศบาลตำบลกำพวน อำเภอสุขสำราญ จังหวัดระนอง
A5: ก. ยุทธศาสตร์จังหวัดที่ 3 : ยกระดับคุณภาพชีวิตของประชาชน
A6: ข. ยุทธศาสตร์การพัฒนาขององค์กรปกครองส่วนท้องถิ่นในเขตจังหวัด ยุทธศาสตร์ที่ 4 : การจัดระเบียบชุมชน สังคมและการรักษาความสงบเรียบร้อย
A7: ยุทธศาสตร์การพัฒนาของเทศบาลตำบลกำพวน ที่ 2 ยุทธศาสตร์ด้านการลดความเหลื่อมล้ำทางสังคมและพัฒนาคุณภาพชีวิตประชาชน
A8: 2.3 แผนงานการศึกษา
A10: ลำดับที่ | B10: โครงการ/กิจกรรม | C10: รายละเอียดของกิจกรรม | D10: งบประมาณ | E10: สถานที่ดำเนินงาน | F10: หน่วย | G10: พ.ศ. 2568 | J10: พ.ศ. 2569
C11: (ผลผลิตของโครงการ) | F11: ดำเนินการ | G11: ต.ค. | H11: พ.ย. | I11: ธ.ค. | J11: ม.ค. | K11: ก.พ. | L11: มี.ค. | M11: เม.ย. | N11: พ.ค. | O11: มิ.ย. | P11: ก.ค. | Q11: ส.ค. | R11: ก.ย.
A12: 1 | B12: โครงการจัดงานวันเด็กแห่งชาติ | C12: -เพื่อให้ความสำคัญกับเด็กปลูก | D12: 100000 | E12: ต.กำพวน | F12: กองการศึกษา | J12: √
B13: (ตามเทศบัญญัติ ฯ ปี 69 หน้า 57) | C13: จิตสำนึกของเด็กให้เห็นความสำคัญ
C14: ของตนเอง
A16: 2 | B16: โครงการเพิ่มประสิทธิภาพศูนย์ | C16: -เพื่อจัดกิจกรรมด้านการศึกษา | D16: 100000 | E16: ต.กำพวน | F16: กองการศึกษา | H16: √ | I16: √ | J16: √ | K16: √ | L16: √ | N16: √ | O16: √ | P16: √ | Q16: √ | R16: √
B17: พัฒนาเด็กเล็กในเขตพื้นที่ | C17: จัดประชุม อบรมให้ความรู้แก่ผู้ปกครอง
B18: (ตามเทศบัญญัติ ฯ ปี 69 หน้า 58)
A20: 3 | B20: โครงการสนับสนุนค่าใช้จ่ายในการ | C20: -เพื่อให้นักเรียนมีอาหารกลางวัน | D20: 1060000 | E20: ต.กำพวน | F20: กองการศึกษา | H20: √ | I20: √ | J20: √ | K20: √ | L20: √ | N20: √ | O20: √ | P20: √ | Q20: √ | R20: √
B21: บริหารสถานศึกษา (ค่าอาหารกลาง | C21: สำหรับเด็กนักเรียนของศูนย์พัฒนา
B22: วัน) | C22: เด็กเล็ก จำนวน 4 แห่ง
B23: (ตามเทศบัญญัติ ฯ ปี 69 หน้า 59)
A25: 4 | B25: โครงการสนับสนุนค่าใช้จ่ายในการ | C25: -เพื่อสนับสนุนค่าใช้จ่ายในการ | D25: 300000 | E25: ต.กำพวน | F25: กองการศึกษา | H25: √ | I25: √ | J25: √ | K25: √ | L25: √ | N25: √ | O25: √ | P25: √ | Q25: √ | R25: √
B26: บริหารสถานศึกษา (ค่าจัดการเรียน | C26: บริหารสถานศึกษา เช่นค่าจัดการ
B27: การสอน) | C27: เรียนการสอนรายหัวเด็ก
B28: (ตามเทศบัญญัติ ฯ ปี 69 หน้า 60)
A29: 5 | B29: โครงการสนับสนุนค่าใช้จ่ายในการ | C29: -เพื่อสนับสนุนค่าใช้จ่ายต่างๆของ | D29: 200825 | E29: ต.กำพวน | F29: กองการศึกษา | H29: √ | I29: √ | J29: √ | K29: √ | L29: √ | N29: √ | O29: √ | P29: √ | Q29: √ | R29: √
B30: บริหารสถานศึกษา (ค่าหนังสือเรียน | C30: สถานศึกษา เช่น ค่าหนังสือเรียน
B31: อุปกรณ์การเรียน ค่าเครื่องแบบนัก | C31: อุปกรณ์การเรียน ค่าเครื่องแบบเรียน
B32: เรียน และค่าพัฒนากิจกรรมผู้เรียน) | C32: ค่ากิจกรรมพัฒนาผู้เรียน เป็นต้น
B33: (ตามเทศบัญญัติ ฯ ปี 69 หน้า 61)
A35: 6 | B35: อาหารเสริม (นม) ให้แก่นักเรียน | C35: -เพื่อให้นักเรียนมีสุขภาพที่แข็งแรง | D35: 1830000 | E35: ต.กำพวน | F35: กองการศึกษา | G35: √ | H35: √ | I35: √ | J35: √ | K35: √ | L35: √ | N35: √ | O35: √ | P35: √ | Q35: √ | R35: √
B36: ศูนย์พัฒนาเด็กเล็กและ | C36: มีพัฒนาการด้านร่างกายที่ดี
B37: โรงเรียนประถมศึกษาในเขตพื้นที่
B38: (ตามเทศบัญญัติ ฯ ปี 69 หน้า 62)
A40: 7 | B40: สนับสนุนอาหารกลางวันให้กับ | C40: -เพื่อให้นักเรียนมีอาหารกลางวัน | D40: 3550000 | E40: ต.กำพวน | F40: กองการศึกษา | G40: √ | H40: √ | I40: √ | J40: √ | K40: √ | L40: √ | N40: √ | O40: √ | P40: √ | Q40: √ | R40: √
B41: โรงเรียนประถมศึกษาในเขตพื้นที่ | C41: มีพัฒนาการด้านร่างกายที่ดี
B42: (ตามเทศบัญญัติ ฯ ปี 69 หน้า 68)
A45: =COUNT(A12:A44) -> 7 | D45: =SUM(D12:D44) -> 7140825 | E45: =SUM(E20:E44) -> 0

Sheet ย2สาสุข
P1: แบบ ผด. 02
A2: บัญชีโครงการ/กิจกรรม/งบประมาณ
A3: แผนดำเนินงานประจำปีงบประมาณ พ.ศ. 2569
A4: เทศบาลตำบลกำพวน อำเภอสุขสำราญ จังหวัดระนอง
A5: ก. ยุทธศาสตร์จังหวัดที่ 3 : ยกระดับคุณภาพชีวิตของประชาชน
A6: ข. ยุทธศาสตร์การพัฒนาขององค์กรปกครองส่วนท้องถิ่นในเขตจังหวัด ยุทธศาสตร์ที่ 4 : การจัดระเบียบชุมชน สังคมและการรักษาความสงบเรียบร้อย
A7: ยุทธศาสตร์การพัฒนาของเทศบาลตำบลกำพวน ที่ 2 ยุทธศาสตร์ด้านการลดความเหลื่อมล้ำทางสังคมและพัฒนาคุณภาพชีวิตประชาชน
A8: 2.4 แผนงานสาธารณสุข
A10: ลำดับที่ | B10: โครงการ/กิจกรรม | C10: รายละเอียดของกิจกรรม | D10: งบประมาณ | E10: สถานที่ดำเนินงาน | F10: หน่วย | G10: พ.ศ. 2568 | J10: พ.ศ. 2569
C11: (ผลผลิตของโครงการ) | F11: ดำเนินการ | G11: ต.ค. | H11: พ.ย. | I11: ธ.ค. | J11: ม.ค. | K11: ก.พ. | L11: มี.ค. | M11: เม.ย. | N11: พ.ค. | O11: มิ.ย. | P11: ก.ค. | Q11: ส.ค. | R11: ก.ย.
A13: 1 | B13: โครงการฝึกอบรมให้ความรู้และ | C13: - จัดทำโครงการเกี่ยวกับโรคติดต่อ | D13: 20000 | E13: ต.กำพวน | F13: สำนักปลัด | G13: √ | H13: √ | I13: √ | J13: √ | K13: √ | L13: √ | M13: √ | N13: √ | O13: √ | P13: √ | Q13: √ | R13: √
B14: สนับสนุนกิจกรรมป้องกันโรคติดต่อ | C14: ร้ายแรง โรคไม่ติดต่อ โรคอุบัติใหม่
B15: ร้ายแรง โรคไม่ติดต่อ โรคอุบัติใหม่ | C15: และโรคอุบัติซ้ำในพื้นที่
B16: และโรคอุบัติซ้ำทุกชนิด
B17: (ตามเทศบัญญัติ ฯ ปี 69 หน้า 73)
A19: 2 | B19: โครงการรณรงค์ป้องกันและควบคุม | C19: - จัดกิจกรรมรณรงค์การป้องกัน | D19: 30000 | E19: ต.กำพวน | F19: สำนักปลัด | L19: √
B20: โรคไข้เลือดออก ชิคุนกุนยา และโรค | C20: และควบคุมโรคฯ อย่างปีละ 1 ครั้ง
B21: ติดต่ออื่นๆ ที่มียุงเป็นพาหะ
B22: (ตามเทศบัญญัติ ฯ ปี 69 หน้า 74)
A24: 3 | B24: โครงการสัตว์ปลอดโรค คนปลอดภัย | C24: -จัดทำโครงการส่งเสริมรณรงค์ | D24: 40000 | E24: ต.กำพวน | F24: สำนักปลัด | L24: √
B25: จากโรคพิษสุนัขบ้าตามปณิธานของ | C25: ป้องกันโรคพิษสุนัขบ้า ปีละ 1 ครั้ง
B26: ศาตราจารย์ ดร.สมเด็จพระเจ้าน้องยา
B27: เธอ เจ้าฟ้าฯ กรมพระศรีสวางควัฒน
B28: วรขัติยราชนารี
B29: (ตามเทศบัญญัติ ฯ ปี 69 หน้า 75)
A31: 4 | B31: โครงการสนับสนุนตามแนวทาง | C31: อุดหนุนโครงการตามแนวพระราช | D31: 140000 | E31: ต.กำพวน | F31: สำนักปลัด | K31: √ | L31: √ | M31: √ | N31: √ | O31: √ | P31: √
B32: โครงการพระราชดำริด้านสาธารณสุข | C32: ดำริด้านสาธารณสุข ให้แก่หมู่บ้าน
B33: ของหมู่บ้าน | C33: จำนวน 7 หมู่บ้าน
B34: (ตามเทศบัญญัติ ฯ ปี 69 หน้า 78)
A36: 5 | B36: โครงการคุ้มครองผู้บริโภคในชุมชน | C36: -จัดการอบรมหรือจัดกิจกรรมให้ความรู้ | D36: 25000 | E36: ต.กำพวน | F36: สำนักปลัด | N36: √ | O36: √ | P36: √
B37: (ตามเทศบัญญัติ ฯ ปี 69 หน้า 71) | C37: แก่ประชาชนในพื้นที่ตำบลกำพวน
C38: จำนวน 1 ครั้ง
A40: 6 | B40: โครงการฝึกอบรมกู้ชีพกู้ภัยแก่เยาวชน | C40: -จัดการอบรมให้ความรู้แก่ประชาชนใน | D40: 30000 | E40: ต.กำพวน | F40: สำนักปลัด | H40: √ | I40: √
B41: และแกนนำชุมชน | C41: พื้นที่ตำบลกำพวน จำนวน 1 ครั้ง
B42: (ตามเทศบัญญัติ ฯ ปี 69 หน้า 72)
A46: =COUNT(A12:A45) -> 6 | D46: =SUM(D13:D45) -> 285000

Sheet ย2เข้มแข็ง
P1: แบบ ผด. 02
A2: บัญชีโครงการ/กิจกรรม/งบประมาณ
A3: แผนดำเนินงานประจำปีงบประมาณ พ.ศ. 2569
A4: เทศบาลตำบลกำพวน อำเภอสุขสำราญ จังหวัดระนอง
A5: ก. ยุทธศาสตร์จังหวัดที่ 3 : ยกระดับคุณภาพชีวิตของประชาชน
A6: ข. ยุทธศาสตร์การพัฒนาขององค์กรปกครองส่วนท้องถิ่นในเขตจังหวัด ยุทธศาสตร์ที่ 4 : การจัดระเบียบชุมชน สังคมและการรักษาความสงบเรียบร้อย
A7: ยุทธศาสตร์การพัฒนาของเทศบาลตำบลกำพวน ที่ 2 ยุทธศาสตร์ด้านการลดความเหลื่อมล้ำทางสังคมและพัฒนาคุณภาพชีวิตประชาชน
A8: 2.5 แผนงานสร้างความเข้มแข็งของชุมชน
A10: ลำดับที่ | B10: โครงการ/กิจกรรม | C10: รายละเอียดของกิจกรรม | D10: งบประมาณ | E10: สถานที่ดำเนินงาน | F10: หน่วย | G10: พ.ศ. 2568 | J10: พ.ศ. 2569
C11: (ผลผลิตของโครงการ) | F11: ดำเนินการ | G11: ต.ค. | H11: พ.ย. | I11: ธ.ค. | J11: ม.ค. | K11: ก.พ. | L11: มี.ค. | M11: เม.ย. | N11: พ.ค. | O11: มิ.ย. | P11: ก.ค. | Q11: ส.ค. | R11: ก.ย.
A12: 1 | B12: โครงการบูรณาการการมีส่วนร่วม | C12: - จัดทำโครงการการมีส่วนร่วมของ | D12: 20000 | E12: ต.กำพวน | F12: สำนักปลัด | G12: √ | H12: √ | I12: √ | J12: √ | K12: √ | L12: √ | M12: √ | N12: √ | O12: √ | P12: √ | Q12: √ | R12: √
B13: ของประชาชน | C13: ประชาชน เช่น กิจกรรมกีฬา นันทนา
B14: (ตามเทศบัญญัติ ฯ ปี 69 หน้า 82) | C14: การ เพื่อสร้างความสามัคคีของชุมชน
A16: 2 | B16: โครงการป้องกันและแก้ไขปัญหายา | C16: - จัดทำโครงการป้องกันและแก้ไข | D16: 10000 | E16: ต.กำพวน | F16: สำนักปลัด | O16: √ | P16: √
B17: เสพติดและอาชญากรรม | C17: ปัญหายาเสพติดและอาชญากรรม
B18: (ตามเทศบัญญัติ ฯ ปี 69 หน้า 83) | C18: ฝึกอบรมชุมชนเข้มแข็งต่อสู้เพื่อ
C19: เอาชนะยาเสพติด เพื่อสร้างภูมิคุ้มกัน
C20: ในเยาวชนกลุ่มเสี่ยง
A22: 3 | B22: โครงการพัฒนาคุณภาพชีวิตผู้ด้อย | C22: -จัดอบรมให้ความรู้เพื่อพัฒนาอาชีพ | D22: 15000 | E22: ต.กำพวน | F22: สำนักปลัด | O22: √ | P22: √
B23: โอกาส ผู้มีรายได้น้อย คนพิการและ | C23: ให้แก่ผู้ด้อยโอกาส ผู้มีรายได้น้อยและ
B24: ผู้สูงอายุ | C24: คนพิการให้มีคุณภาพชีวิตที่ดีขึ้น
B25: (ตามเทศบัญญัติ ฯ ปี 69 หน้า 84)
A28: 4 | B28: โครงการพัฒนาศักยภาพผู้สูงอายุ | C28: -จัดอบรมให้ความรู้เพื่อพัฒนาอาชีพ | D28: 80000 | E28: ต.กำพวน | F28: สำนักปลัด | H28: √ | I28: √ | J28: √ | K28: √ | L28: √ | M28: √ | N28: √ | O28: √ | P28: √
B29: (ตามเทศบัญญัติ ฯ ปี 69 หน้า 85) | C29: ให้แก่ผู้สูงอายุให้มีคุณภาพชีวิต
C30: ที่ดีขึ้น
A33: 5 | B33: โครงการพัฒนาสตรีและครอบครัว | C33: -จัดกิจกรรมเพื่อส่งเสริมและพัฒนา | D33: 12000 | E33: ต.กำพวน | F33: สำนักปลัด | N33: √ | O33: √ | P33: √
B34: (ตามเทศบัญญัติ ฯ ปี 69 หน้า 86) | C34: สตรีและครอบครัว ปีละ 1 ครั้ง
A37: 6 | B37: โครงการสภาเด็กและเยาวชนเทศบาล | C37: -จัดทำโครงการสภาเด็กและเยาวชน | D37: 20000 | E37: ต.กำพวน | F37: กองการศึกษา | H37: √ | I37: √ | J37: √ | K37: √ | L37: √ | M37: √ | N37: √ | O37: √ | P37: √
B38: ตำบลกำพวน | C38: เพื่อให้เยาวชนมีกิจกรรมต่างๆ
B39: (ตามเทศบัญญัติ ฯ ปี 69 หน้า 87) | C39: ปีละ 1 ครั้ง
A41: 7 | B41: โครงการเสริมสร้างจิตอาสาพัฒนาชุมชน | C41: -จัดอบรมหรือจัดกิจกรรมให้ความรู้แก่ | D41: 20000 | E41: ต.กำพวน | F41: สำนักปลัด | I41: √ | M41: √ | P41: √
B42: (ตามเทศบัญญัติ ฯ ปี 69 หน้า 87) | C42: ประชาชนในพื้นที่ตำบลกำพวน
C43: จำนวน 1 ครั้ง
A45: =COUNT(A12:A44) -> 7 | D45: =SUM(D12:D44) -> 177000 | E45: =SUM(E12:E44) -> 0

Sheet ย2 ศาสนา
P1: แบบ ผด. 02
A2: บัญชีโครงการ/กิจกรรม/งบประมาณ
A3: แผนดำเนินงานประจำปีงบประมาณ พ.ศ. 2569
A4: เทศบาลตำบลกำพวน อำเภอสุขสำราญ จังหวัดระนอง
A5: ก. ยุทธศาสตร์จังหวัดที่ 3 : ยกระดับคุณภาพชีวิตของประชาชน
A6: ข. ยุทธศาสตร์การพัฒนาขององค์กรปกครองส่วนท้องถิ่นในเขตจังหวัด ยุทธศาสตร์ที่ 4 : การจัดระเบียบชุมชน สังคมและการรักษาความสงบเรียบร้อย
A7: ยุทธศาสตร์การพัฒนาของเทศบาลตำบลกำพวน ที่ 2 ยุทธศาสตร์ด้านการลดความเหลื่อมล้ำทางสังคมและพัฒนาคุณภาพชีวิตประชาชน
A8: 2.6 แผนงานการศาสนา วัฒนธรรมและนันทนาการ
A10: ลำดับที่ | B10: โครงการ/กิจกรรม | C10: รายละเอียดของกิจกรรม | D10: งบประมาณ | E10: สถานที่ดำเนินงาน | F10: หน่วย | G10: พ.ศ. 2568 | J10: พ.ศ. 2569
C11: (ผลผลิตของโครงการ) | F11: ดำเนินการ | G11: ต.ค. | H11: พ.ย. | I11: ธ.ค. | J11: ม.ค. | K11: ก.พ. | L11: มี.ค. | M11: เม.ย. | N11: พ.ค. | O11: มิ.ย. | P11: ก.ค. | Q11: ส.ค. | R11: ก.ย.
A12: 1 | B12: โครงการแข่งขันกีฬาต้านยาเสพติด | C12: -เพื่อส่งเสริมประชาชนออกกำลังกาย | D12: 300000 | E12: ต.กำพวน | F12: กองการศึกษา | H12: √ | I12: √ | J12: √ | K12: √ | L12: √ | M12: √
B13: (ตามเทศบัญญัติ ฯ ปี 69 หน้า 89) | C13: มีร่างกายที่แข็งแรง
A15: 2 | B15: โครงการจัดซื้อวัสดุอุปกรณ์กีฬาหมู่บ้าน | C15: ซื้อวัสดุอุปกรณ์ให้แก่เด็กเยาวชนและ | D15: 5000 | E15: ต.กำพวน | F15: กองการศึกษา | H15: √
B16: (ตามเทศบัญญัติ ฯ ปี 69 หน้า 89) | C16: ประชาชนในพท้นที่ตำบลกำพวน 1 ครั้ง
A18: 3 | B18: โครงการจัดส่งเยาวชนและประชาชน | C18: -เพื่อส่งเสริมประชาชนออกกำลังกาย | D18: 100000 | E18: ต.กำพวน | F18: กองการศึกษา | J18: √ | K18: √ | L18: √ | M18: √ | N18: √ | O18: √ | P18: √ | Q18: √
B19: เข้าร่วมเข่งขันกีฬาระดับต่าง ๆ | C19: มีทักษะกีฬาที่เพิ่มขึ้น
B20: (ตามเทศบัญญัติ ฯ ปี 69 หน้า 90)
A22: 4 | B22: โครงการประเพณีลอยกระทง | C22: -เพื่อส่งเสริมวัฒนธรรมและประเพณี | D22: 35000 | E22: ต.กำพวน | F22: กองการศึกษา | H22: √
B23: (ตามเทศบัญญัติ ฯ ปี 69 หน้า 91) | C23: ลอยกระทง จัดกิจกรรม 1 ครั้ง
A25: 5 | B25: โครงการประเพณีสงกรานต์ | C25: -เพื่อส่งเสริมวัฒนธรรมและประเพณี | D25: 25000 | E25: ต.กำพวน | F25: กองการศึกษา | M25: √
B26: (ตามเทศบัญญัติ ฯ ปี 69 หน้า 92) | C26: สงกรานต์ จัดกิจกรรม 1 ครั้ง
A28: 6 | B28: โครงการแห่เทียนพรรษา | C28: -สืบสารประเพณีแห่เทียนพรรษา | D28: 15000 | E28: ต.กำพวน | F28: กองการศึกษา | P28: √ | Q28: √
B29: (ตามเทศบัญญัติ ฯ ปี 69 หน้า 93)
A31: 7 | B31: โครงการอบรมส่งเสริมคุณธรรม | C31: เด็กเยาวชนและประชาชนในพื้นที่ตำบล | D31: 20000 | E31: ต.กำพวน | F31: กองการศึกษา | L31: √
B32: จริยธรรมในเดือนรอมาฎอน | C32: กำพวน
B33: (ตามเทศบัญญัติ ฯ ปี 69 หน้า 94)
A35: 8 | B35: อุดหนุนหน่วยสอบที่ 27 สมาคม | C35: -เพื่อส่งเสริมการศึกษาศาสนาอิสลาม | D35: 255000 | E35: ต.กำพวน | F35: กองการศึกษา | L35: √ | Q35: √
B36: คุรุสัมพันธ์แห่งประเทศไทย
B37: (ตามเทศบัญญัติ ฯ ปี 69 หน้า 95)
A39: 9 | B39: โครงการส่งเสริมการท่องเที่ยวตำบล | C39: -เพื่อส่งเสริมการท่องเที่ยวตำบลกำพวน | D39: 150000 | E39: ต.กำพวน | F39: สำนักปลัด | I39: √ | J39: √
B40: กำพวน
B41: (ตามเทศบัญญัติ ฯ ปี 69 หน้า 96)
A43: =COUNT(A12:A42) -> 9 | D43: =SUM(D12:D42) -> 905000 | E43: =SUM(E12:E42) -> 0

Sheet ย3 กีฬา
P1: แบบ ผด. 02
A2: บัญชีโครงการ/กิจกรรม/งบประมาณ
A3: แผนดำเนินงานประจำปีงบประมาณ พ.ศ. 2569
A4: เทศบาลตำบลกำพวน อำเภอสุขสำราญ จังหวัดระนอง
A5: ก. ยุทธศาสตร์จังหวัดที่ 3 : ยกระดับคุณภาพชีวิตของประชาชน
A6: ข. ยุทธศาสตร์การพัฒนาขององค์กรปกครองส่วนท้องถิ่นในเขตจังหวัด ยุทธศาสตร์ที่ 4 : การจัดระเบียบชุมชน สังคมและการรักษาความสงบเรียบร้อย
A7: ยุทธศาสตร์การพัฒนาของเทศบาลตำบลกำพวน ที่ 3 ยุทธศาสตร์การพัฒนาด้านการเกษตร เศรษฐกิจ อุตสาหกรรม
A8: 3.1 แผนงานการศาสนา วัฒนธรรมท้องถิ่น
A10: ลำดับที่ | B10: โครงการ/กิจกรรม | C10: รายละเอียดของกิจกรรม | D10: งบประมาณ | E10: สถานที่ดำเนินงาน | F10: หน่วย | G10: พ.ศ. 2568 | J10: พ.ศ. 2569
C11: (ผลผลิตของโครงการ) | F11: ดำเนินการ | G11: ต.ค. | H11: พ.ย. | I11: ธ.ค. | J11: ม.ค. | K11: ก.พ. | L11: มี.ค. | M11: เม.ย. | N11: พ.ค. | O11: มิ.ย. | P11: ก.ค. | Q11: ส.ค. | R11: ก.ย.
A12: 1 | B12: โครงการส่งเสริมการท่องเที่ยว | C12: - จัดกิจกรรมส่งเสริมการท่องเที่ยว | D12: 255000 | E12: ต.กำพวน | F12: กองการศึกษา | N12: √ | O12: √
B13: ตำบลกำพวน | C13: ตำบลกำพวนเพื่อกระตุ้นเศรษฐกิจ
B14: (ตามเทศบัญญัติ ฯ ปี 69 หน้า 95)
A20: 1 | D20: =SUM(D12:D19) -> 255000

Sheet ย4 เกษตร
P1: แบบ ผด. 02
A2: บัญชีโครงการ/กิจกรรม/งบประมาณ
A3: แผนดำเนินงานประจำปีงบประมาณ พ.ศ. 2569
A4: เทศบาลตำบลกำพวน อำเภอสุขสำราญ จังหวัดระนอง
A5: ก. ยุทธศาสตร์จังหวัดที่ 3 : ยกระดับคุณภาพชีวิตของประชาชน
A6: ข. ยุทธศาสตร์การพัฒนาขององค์กรปกครองส่วนท้องถิ่นในเขตจังหวัด ยุทธศาสตร์ที่ 4 : การจัดระเบียบชุมชน สังคมและการรักษาความสงบเรียบร้อย
A7: ยุทธศาสตร์การพัฒนาของเทศบาลตำบลกำพวน ที่ 4 ยุทธศาสตร์ด้านทรัพยากรธรรมชาติและสิ่งแวดล้อม
A8: 4.1 แผนงานการเกษตร
A10: ลำดับที่ | B10: โครงการ/กิจกรรม | C10: รายละเอียดของกิจกรรม | D10: งบประมาณ | E10: สถานที่ดำเนินงาน | F10: หน่วย | G10: พ.ศ. 2568 | J10: พ.ศ. 2569
C11: (ผลผลิตของโครงการ) | F11: ดำเนินการ | G11: ต.ค. | H11: พ.ย. | I11: ธ.ค. | J11: ม.ค. | K11: ก.พ. | L11: มี.ค. | M11: เม.ย. | N11: พ.ค. | O11: มิ.ย. | P11: ก.ค. | Q11: ส.ค. | R11: ก.ย.
A12: 1 | B12: โครงการส่งเสริมและสนับสนุนการ | C12: - ดำเนินโครงการอบรมและ | D12: 30000 | E12: ต.กำพวน | F12: สำนักปลัด | J12: √ | K12: √ | L12: √ | M12: √ | N12: √ | O12: √ | P12: √ | Q12: √
B13: ดำเนินงานตามหลักเศรษฐกิจพอเพียง | C13: ดำเนินกิจกรรมด้านเศรษฐกิจ
B14: ในเขตพื้นที่ | C14: พอเพียงชุมชนพึ่งตนเอง
B15: (ตามเทศบัญญัติ ฯ ปี 69 หน้า 110)
A17: 2 | B17: โครงการส่งเสริมอาชีพด้านการเกษตรตาม | C17: จัดอบรมโครงการส่งเสริมอาชีพด้านการ | D17: 30000 | E17: ต.กำพวน | F17: สำนักปลัด | J17: √ | K17: √ | L17: √ | M17: √ | N17: √ | O17: √
B18: อัตลักษณ์และภูมิปัญญาท้องถิ่น | C18: เกษตรอัตลักษณ์และภูมิปัญญาท้องถิ่น
B19: (ตามเทศบัญญัติ ฯ ปี 69 หน้า 111)
A21: 3 | B21: โครงการรณรงค์จัดทำถังขยะเปียกใน | C21: -จัดกิจกรรม จำนวน 1 ครั้ง | D21: 50000 | E21: ต.กำพวน | F21: สำนักปลัด | K21: √ | L21: √ | M21: √ | N21: √ | O21: √
B22: ครัวเรือนลดโลกร้อน
B23: (ตามเทศบัญญัติ ฯ ปี 69 หน้า 112)
A26: 4 | B26: โครงการส่งเสริมการอนุรักษ์ | C26: -จัดอบรมให้ความรู้และรณรงค์ | D26: 25000 | E26: ต.กำพวน | F26: สำนักปลัด | G26: √ | H26: √ | I26: √ | J26: √ | K26: √ | L26: √ | M26: √ | N26: √ | O26: √ | P26: √ | Q26: √ | R26: √
B27: ทรัพยากรธรรมชาติและสิ่งแวดล้อม | C27: สร้างจิตสำนึกและการมีส่วนร่วมใน
B28: อย่างมีส่วนร่วม | C28: การอนุรักษ์และการจัดการทรัพยากร
B29: (ตามเทศบัญญัติ ฯ ปี 69 หน้า 113) | C29: ธรรมชาติและสิ่งแวดล้อม ปีละ 1 ครั้ง
A31: 5 | B31: โครงการอนุรักษ์พันธุกรรมพืชอันเนื่อง | C31: - ดำเนินงานตามโครงการอนุรักษ์ | D31: 20000 | E31: ต.กำพวน | F31: สำนักปลัด | G31: √ | H31: √ | I31: √ | J31: √ | K31: √ | L31: √ | M31: √ | N31: √ | O31: √ | P31: √ | Q31: √ | R31: √
B32: มาจากพระราชดำริ สมเด็จพระเทพ | C32: พันธุกรรมพืช ตามพระราชดำริ
B33: รัตนราชสุดาฯ สยามบรมราชกุมารี | C33: (อพ.สธ)
B34: (ตามเทศบัญญัติ ฯ ปี 69 หน้า 114)
A36: 6 | B36: โครงการอาสาสมัครม้องถิ่นรักษ์โลก (อถล.) | C36: -จัดกิจกรรม จำนวน 1 ครั้ง | D36: 25000 | E36: ต.กำพวน | F36: สำนักปลัด | N36: √ | O36: √
B37: ใส่ใจสิ่งแวดล้อม
B38: (ตามเทศบัญญัติ ฯ ปี 69 หน้า 114)
A40: =COUNT(A12:A39) -> 6 | D40: =SUM(D12:D39) -> 180000
A41: 3 | B41: =SUM(E12:E39) -> 0

Sheet ย3 เคหะ
P1: แบบ ผด. 02
A2: บัญชีโครงการ/กิจกรรม/งบประมาณ
A3: แผนดำเนินงานประจำปีงบประมาณ พ.ศ. 2569
A4: เทศบาลตำบลกำพวน อำเภอสุขสำราญ จังหวัดระนอง
A5: ก. ยุทธศาสตร์จังหวัดที่ 3 : ยกระดับคุณภาพชีวิตของประชาชน
A6: ข. ยุทธศาสตร์การพัฒนาขององค์กรปกครองส่วนท้องถิ่นในเขตจังหวัด ยุทธศาสตร์ที่ 4 : การจัดระเบียบชุมชน สังคมและการรักษาความสงบเรียบร้อย
A7: ยุทธศาสตร์การพัฒนาของเทศบาลตำบลกำพวน ที่ 2 ยุทธศาสตร์ด้านการลดความเหลื่อมล้ำทางสังคมและพัฒนาคุณภาพชีวิตประชาชน
A8: 3.2 แผนงานอุตสาหกรรมและการโยธา
A10: ลำดับที่ | B10: โครงการ/กิจกรรม | C10: รายละเอียดของกิจกรรม | D10: งบประมาณ | E10: สถานที่ดำเนินงาน | F10: หน่วย | G10: พ.ศ. 2568 | J10: พ.ศ. 2569
C11: (ผลผลิตของโครงการ) | F11: ดำเนินการ | G11: ต.ค. | H11: พ.ย. | I11: ธ.ค. | J11: ม.ค. | K11: ก.พ. | L11: มี.ค. | M11: เม.ย. | N11: พ.ค. | O11: มิ.ย. | P11: ก.ค. | Q11: ส.ค. | R11: ก.ย.
A12: 1 | B12: โครงการก่อสร้างถนนคอนกรีต | C12: ถนน ค.ส.ล. กว้าง 4 ม. ยาว 250 ม. | D12: 1247000 | E12: ม.2 | F12: กองช่าง | N12: √ | O12: √ | P12: √ | Q12: √
B13: เสริมเหล็กซอยนาใน 1 ช่วงที่ 2 | C13: หรทอมีพื้นที่ไม่น้อยกว่า 1,000 ตร.ม. | E13: ต.กำพวน
C14: ไหล่ทางข้างละ 0.50 ม.
C15: (ตามแบบที่ ทต. กำพวน กำหนด)
A17: 2 | B17: โครงการติดตั้งไฟฟ้าแสงสว่างถนน | C17: ติดตั้งโคมไฟฟ้าแบบกิ่งเดี่ยว จำนวน 7 จุด | D17: 277306 | E17: ม. 4 | F17: กองช่าง | N17: √ | O17: √ | P17: √ | Q17: √
B18: เพชรเกษม-บ้านท่ากลาง ช่วงที่ 2 | C18: ระยะทางห่าง 30 ม. เสาไฟฟ้าสูง 6.00 ม. | E18: ต.กำพวน
B19: หมู่ที่ 4 | C19: พร้อมกิ่งเดี่ยวและอุปกรณ์ครบชุด โคมไฟฟ้า
C20: 250 W
A27: 3 | B27: โครงการติดตั้งชุดเสาไฟถนนโคมไฟแอล | C27: ติดตั้งไฟส่องสว่างโคมไฟถนนพลังงานแสง | D27: 4608000 | E27: หมู่ที่ 5 | F27: กองช่าง | I27: √ | J27: √ | K27: √ | L27: √ | M27: √ | N27: √
B28: อีดีพลังงานแสงอาทิตย์แบบประกอบใน | C28: อาทิตย์แบบประกอบในชุดเดียว จำนวน
B29: ชุดเดียวกัน(Integrated Solar cell | C29: 155 ต้น รหัส07020037
B30: LED Streetlight with pole)
B31: ถนนที่ว่าการอำเภอ-โตนกลอย
B32: หมู่ที่ 5 ตำบลกำพวน อำเภอสุขสำราญ
B33: จังหวัดระนอง
B34: (เงินอุดหนุนเฉพาะกิจสำนักงบประมาณปี พ.ศ. 2569)
A39: =COUNT(A12:A38) -> 3 | D39: =SUM(D12:D38) -> 6132306 | E39: =SUM(E12:E38) -> 0

Sheet สรุป ค-อื่น
H1: แบบ ผด. 01
A2: บัญชีสรุปโครงการและงบประมาณ (หน่วยงานอื่น)
A3: แผนดำเนินงาน ประจำปีงบประมาณ พ.ศ. 2569
A4: เทศบาลตำบลกำพวน อำเภอสุขสำราญ จังหวัดระนอง
A6: ยุทธศาสตร์/แผนงาน | D6: จำนวน | E6: คิดเป็นร้อยละของ | F6: จำนวนงบประมาณ | G6: ร้อยละของ | H6: หน่วยดำเนินการ
D7: โครงการ | E7: โครงการทั้งหมด | F7: (บาท) | G7: งบประมาณ
A8: 1) | B8: ยุทธศาสตร์ด้านการบริหารราชการให้มีประสิทธิภาพตามหลักธรรมาภิบาล
B9: 1.1 | C9: แผนงานบริหารทั่วไป
C10: รวม | D10: =SUM(D9:D9) -> 0 | E10: =SUM(E9:E9) -> 0 | F10: =SUM(F9) -> 0 | G10: =SUM(G9:G9) -> 0
A11: 2) | B11: ยุทธศาสตร์ด้านการลดความเหลื่อมล้ำทางสังคมและพัฒนาคุณภาพชีวิต
B12: 2.1 | C12: แผนงานงบกลาง
B13: 2.2 | C13: แผนงานการรักษาความสงบภายใน
B14: 2.3 | C14: แผนงานการศึกษา
B15: 2.4 | C15: แผนงานสาธารณสุข | D15: =+หน่วยงานอื่น!A57 -> 7 | E15: =+D15/D26*100 -> 53.846154 | F15: =+หน่วยงานอื่น!D13+หน่วยงานอื่น!D23+หน่วยงานอื่น!D30+หน่วยงานอื่น!D34+หน่วยงานอื่น!D39+หน่วยงานอื่น!D51+หน่วยงานอื่น!D57 -> 212975 | G15: =+F15/F26*100 -> 1.76538
B16: 2.5 | C16: แผนงานสร้างความเข้มแข็งของชุมชน | D16: =+หน่วยงานอื่น!A91 -> 1 | E16: =+D16/D26*100 -> 7.6923077 | F16: =+หน่วยงานอื่น!D91 -> 33000 | G16: =+F16/F26*100 -> 0.27354168
B17: 2.6 | C17: แผนงานศาสนาและวัฒนธรรม
C18: รวม | D18: =SUM(D13:D17) -> 8 | E18: =SUM(E13:E17) -> 61.538462 | F18: =SUM(F13:F17) -> 245975 | G18: =SUM(G13:G17) -> 2.0389217
A19: 3) | B19: ยุทธศาสตร์ด้านการเกษตร เศรษฐกิจ และอุตสาหกรรม
B20: 3.1 | C20: แผนงานการศาสนา วัฒนธรรมท้องถิ่น
B21: 3.2 | C21: แผนงานอุตสาหกรรมและการโยธา | D21: =+หน่วยงานอื่น!A126 -> 5 | E21: =D21*100/D26 -> 38.461538 | F21: =SUM(หน่วยงานอื่น!D113:D132) -> 11818000 | G21: =F21*100/F26 -> 97.961078
C22: รวม | D22: =SUM(D20:D21) -> 5 | E22: =SUM(E19:E21) -> 38.461538 | F22: =SUM(F20:F21) -> 11818000 | G22: =SUM(G20:G21) -> 97.961078
A23: 4) | B23: ยุทธศาสตร์การพัฒนาด้านทรัพยากรธรรมชาติและสิ่งแวดล้อม
B24: 4.1 | C24: แผนงานการเกษตร
C25: รวม | D25: =SUM(D23:D24) -> 0 | E25: =SUM(E23:E24) -> 0 | F25: =SUM(F24:F24) -> 0 | G25: =SUM(G24) -> 0
C26: รวมทั้งสิ้น | D26: =D10+D18+D22+D25 -> 13 | E26: =E10+E18+E22+E25 -> 100 | F26: =F10+F18+F22+F25 -> 12063975 | G26: =G10+G18+G22+G25 -> 100

Sheet หน่วยงานอื่น
P1: แบบ ผด. 02
A3: บัญชีโครงการ/กิจกรรม/งบประมาณ
A4: แผนดำเนินงานประจำปีงบประมาณ พ.ศ. 2569 (หน่วยงานอื่น)
A5: เทศบาลตำบลกำพวน อำเภอสุขสำราญ จังหวัดระนอง
A6: ก. ยุทธศาสตร์จังหวัดที่ 3 : ยกระดับคุณภาพชีวิตของประชาชน
A7: ข. ยุทธศาสตร์การพัฒนาขององค์กรปกครองส่วนท้องถิ่นในเขตจังหวัด ยุทธศาสตร์ที่ 4 : การจัดระเบียบชุมชน สังคมและการรักษาความสงบเรียบร้อย
A8: ยุทธศาสตร์การพัฒนาของเทศบาลตำบลกำพวน ที่ 2 ยุทธศาสตร์ด้านการลดความเหลื่อมล้ำทางสังคมและพัฒนาคุณภาพชีวิตประชาชน
A9: 2.4 แผนงานสาธารณสุข
A11: ลำดับที่ | B11: โครงการ/กิจกรรม | C11: รายละเอียดของกิจกรรม | D11: งบประมาณ | E11: สถานที่ดำเนินงาน | F11: หน่วย | G11: พ.ศ. 2568 | J11: พ.ศ. 2569
C12: (ผลผลิตของโครงการ) | F12: ดำเนินการ | G12: ต.ค. | H12: พ.ย. | I12: ธ.ค. | J12: ม.ค. | K12: ก.พ. | L12: มี.ค. | M12: เม.ย. | N12: พ.ค. | O12: มิ.ย. | P12: ก.ค. | Q12: ส.ค. | R12: ก.ย.
A13: 1 | B13: โครงการพัฒนาระบบบริการ | C13: 1.ประชุมชี้แจงกิจกรรมโครงการตำบล | D13: 43000 | E13: โรงพยาบาล | F13: โรงพยาบาล | I13: √ | J13: √ | K13: √ | P13: √
B14: อนามัยแม่และเด็ก มหัศจรรย์ | C14: มหัศจรรย์ 1,000 Plus | E14: สุขสำราญ | F14: สุขสำราญ
B15: 1000 วัน plus สุขสำราญ | C15: 2.ประชุมเชิงปฏิบัติการส่งเสริมศักยภาพใน
C16: การดูแลตนเองของหญิงตั้งครรภ์
C17: 3.ประชุมให้ความรู้การกระตุ้นพัฒนาการด้วย
C18: เครื่องมือ DSPM และกิจกรรม กิน กอด เล่น
C19: เล่า
C20: 4.สนับสนุนนมกล่องแก่หญิงตั้งครรภ์
C21: ไตรมาศที่ 3 ที่ผ่านโครงการทุกราย
A23: 2 | B23: โครงการป้องกันการตั้งครรภ์ไม่ | C23: 1.อบรมให้ความรู้การป้องกันตนเองจาก | D23: 28000 | E23: โรงเรียนมัธยม | F23: โรงพยาบาล | N23: √ | P23: √
B24: พร้อมและป้องกันโรคติดต่อทาง | C24: พฤติกรรมเสี่ยงทางเพศ | E24: ต.กำพวน | F24: สุขสำราญ
B25: เพศสัมพันธ์ในวัยรุ่น | C25: 2.ตรวจคัดกรองโรคติดต่อทางเพศสัมพันธ์
C26: (STI clinic) คลินิกวัยรุ่น
A30: 3 | B30: โครงการยิ้มสดใส สุขสำราญ | C30: ส่งเสริมทันตสุขภาพกลุ่มเด็ก 3 - 5 ปีในศูนย์ | D30: 10000 | E30: ศพด. | F30: โรงพยาบาล | J30: √ | K30: √ | L30: √ | M30: √ | N30: √ | O30: √
B31: ฟันสวยประจำปีงบประมาณ | C31: พัฒนาเด็กเล็ก/อนุบาล | E31: ตำบลกำพวน | F31: สุขสำราญ
B32: 2568
A34: 4 | B34: โครงการควบคุมและป้องกันไข้ | C34: ควบคุมกำจัดยุงตัวแก่ สอบสวนและเฝ้าระวัง | D34: 32750 | E34: ต.กำพวน | F34: โรงพยาบาล | G34: √ | H34: √ | I34: √ | J34: √ | K34: √ | L34: √ | M34: √ | N34: √ | O34: √ | P34: √ | Q34: √ | R34: √
B35: เลือดออก และชิคุนกุนยา | C35: ป้องกันการระบาดของโรคไข้เลือดออกและ | E35: อ.สุขสำราญ | F35: สุขสำราญ
B36: อำเภอสุขสำราญ จังหวัดระนอง | C36: ชิคุนกุนยา
B37: ประจำปีงบประมาณ พ.ศ.2568
A39: 5 | B39: โครงการสร้างเสริมสุขภาพป้องกัน | C39: 1.ตรวจคัดกรองประเมินความเสี่ยงสภาวะ | D39: 62525 | E39: ต.กำพวน | F39: โรงพยาบาล | I39: √ | L39: √ | N39: √ | Q39: √
B40: โรคไม่ติดต่อเรื้อรัง เบาหวาน | C40: สุขภาพ โรคเบาหวานและความดันโลหิตสูงใน | E40: อ.สุขสำราญ | F40: สุขสำราญ
B41: ความดันโลหิตสูง โรคหลอดเลือด | C41: ประชาชน อายุ 35 ปี ขึ้นไป และกลุ่มอายุไม่
B42: สมองและหัวใจขาดเลือด ปี พ.ศ. | C42: ถึง 35ปี แต่มีความเสี่ยงสุขภาพ
B43: 2568 ต.กำพวน | C43: 2.อบรมเชิงปฏิบัติการ เสริมความตระหนักรู้
C44: ป้องกัน โรคเบาหวาน ความดันโลหิตสูงการ
C45: ปรับเปลี่ยนพฤติกรรมและติดตามต่อเนื่อง ใน
C46: กลุ่มสงสัยป่วยจากการคัดกรอง
C47: 3.จัดทำสื่อประชาสัมพันธ์ เพื่อเสริมสร้างความ
C48: ตระหนักรู้ในชุมชน โรคหลอดเลือดสมอง
...

Sheet ครุภัณฑ์-สรุป
A2: บัญชีครุภัณฑ์
A3: แผนดำเนินงาน ประจำปีงบประมาณ พ.ศ. 2569
A4: เทศบาลตำบลกำพวน อำเภอสุขสำราญ จังหวัดระนอง
A6: ครุภัณฑ์สำนักงาน | C6: จำนวน | D6: =+'ค สนง'!A18 -> 2 | E6: รายการ | F6: เป็นเงิน | G6: =+'ค สนง'!D18 -> 472000 | H6: บาท
A7: ครุภัณฑ์สนาม | C7: จำนวน | D7: =+'ค สนาม'!A16 -> 1 | E7: รายการ | F7: เป็นเงิน | G7: =+'ค สนาม'!D16 -> 119600 | H7: บาท
A8: ครุภัณฑ์ยานพาหนะและขนส่ง | C8: จำนวน | D8: =+'ค คอม (2)'!A15 -> 1 | E8: รายการ | F8: เป็นเงิน | G8: =+'ค คอม (2)'!D15 -> 1051000 | H8: บาท
B9: รวมทั้งสิ้น | D9: =SUM(D6:D8) -> 4 | E9: รายการ | F9: เป็นเงิน | G9: =SUM(G6:G8) -> 1642600 | H9: บาท

Sheet ค สนง
P1: แบบ ผด. 02/1
A2: บัญชีครุภัณฑ์
A3: แผนดำเนินงานประจำปีงบประมาณ พ.ศ. 2569
A4: เทศบาลตำบลกำพวน อำเภอสุขสำราญ จังหวัดระนอง
A5: ครุภัณฑ์สำนักงาน
A7: ลำดับที่ | B7: โครงการ/กิจกรรม | C7: รายละเอียดของกิจกรรม | D7: งบประมาณ | E7: สถานที่ดำเนินงาน | F7: หน่วย | G7: พ.ศ. 2568 | J7: พ.ศ. 2569
C8: (ผลผลิตของโครงการ) | F8: ดำเนินการ | G8: ต.ค. | H8: พ.ย. | I8: ธ.ค. | J8: ม.ค. | K8: ก.พ. | L8: มี.ค. | M8: เม.ย. | N8: พ.ค. | O8: มิ.ย. | P8: ก.ค. | Q8: ส.ค. | R8: ก.ย.
A9: 1 | B9: เครื่องปรับอากาศ | C9: จัดซื้อเครื่องปรับอากาศแบบติดผนัง ขนาด | D9: 343200 | E9: ต.กำพวน | F9: กองการศึกษา | H9: √ | I9: √
B10: (ตามเทศบัญญัติ ฯ ปี 69 หน้า 65) | C10: 18,000 บีทียู จำนวน 12 เครื่อง
C11: ศพด. จำนวน 4 แห่ง
A13: 2 | B13: เครื่องปรับอากาศ | C13: จัดซื้อเครื่องปรับอากาศแบบติดผนัง ขนาด | D13: 128800 | E13: ต.กำพวน | F13: กองการศึกษา | H13: √ | I13: √
B14: (ตามเทศบัญญัติ ฯ ปี 69 หน้า 65) | C14: 24,000 บีทียู จำนวน 4 เครื่อง
C15: ศพด. จำนวน 4 แห่ง
A18: =COUNT(A9:A17) -> 2 | D18: =SUM(D9:D17) -> 472000 | E18: =SUM(E9:E17) -> 0

Sheet ค สนาม
P1: แบบ ผด. 02/1
A2: บัญชีครุภัณฑ์
A3: แผนดำเนินงานประจำปีงบประมาณ พ.ศ. 2569
A4: เทศบาลตำบลกำพวน อำเภอสุขสำราญ จังหวัดระนอง
A5: ครุภัณฑ์สนาม
A7: ลำดับที่ | B7: โครงการ/กิจกรรม | C7: รายละเอียดของกิจกรรม | D7: งบประมาณ | E7: สถานที่ดำเนินงาน | F7: หน่วย | G7: พ.ศ. 2568 | J7: พ.ศ. 2569
C8: (ผลผลิตของโครงการ) | F8: ดำเนินการ | G8: ต.ค. | H8: พ.ย. | I8: ธ.ค. | J8: ม.ค. | K8: ก.พ. | L8: มี.ค. | M8: เม.ย. | N8: พ.ค. | O8: มิ.ย. | P8: ก.ค. | Q8: ส.ค. | R8: ก.ย.
A9: 1 | B9: ชุดเครื่องเล่นสนามเด็กเล่น | C9: จัดซื้อชุดเครื่องเล่นสนามเด็กเล่น | D9: 119600 | E9: ต.กำพวน | F9: กองการศึกษา | H9: √ | I9: √
B10: (ตามเทศบัญญัติ ฯ ปี 69 หน้า 67) | C10: -ชุดซัมเมอร์สไลด์แอนสวิง จำนวน 2 ชุด
C11: ศพด. จำนวน 4 แห่ง
C12: (เป็นครุภัณฑ์ที่ไม่มีกำหนดไว้ในบัญชีราคามาตรฐานครุภัณฑ์
C13: หรือครุภัณฑ์ที่ตั้งงบประมาณราคาในจังหวัดหรือท้องถิ่น)
A16: =COUNT(A9:A15) -> 1 | D16: =SUM(D9:D15) -> 119600 | E16: =SUM(E9:E15) -> 0

Sheet ค คอม (2)
P1: แบบ ผด. 02/1
A2: บัญชีครุภัณฑ์
A3: แผนดำเนินงานประจำปีงบประมาณ พ.ศ. 2569
A4: เทศบาลตำบลกำพวน อำเภอสุขสำราญ จังหวัดระนอง
A5: ครุภัณฑ์ยานพาหนะและขนส่ง
A7: ลำดับที่ | B7: โครงการ/กิจกรรม | C7: รายละเอียดของกิจกรรม | D7: งบประมาณ | E7: สถานที่ดำเนินงาน | F7: หน่วย | G7: พ.ศ. 2566 | J7: พ.ศ. 2567
C8: (ผลผลิตของโครงการ) | F8: ดำเนินการ | G8: ต.ค. | H8: พ.ย. | I8: ธ.ค. | J8: ม.ค. | K8: ก.พ. | L8: มี.ค. | M8: เม.ย. | N8: พ.ค. | O8: มิ.ย. | P8: ก.ค. | Q8: ส.ค. | R8: ก.ย.
A9: 1 | B9: รถบรรทุกขยะ | C9: รถบรรทุกขยะ ขนาด 1 ตัน ปริมาตรกระบอกสูบ | D9: 1051000 | E9: ต.กำพวน | F9: สำนักปลัด | I9: √ | J9: √ | K9: √
C10: ไม่ต่ำกว่า 2,400 ซีซี หรือกำลังเครื่องยนต์สูงสุด
C11: ไม่ต่ำกว่า 110 กิโลวัตต์ แบบเปิดข้างเทท้าย
C12: ตำบลกำพวน อำเภอสุขสำราญ จังหวัดระนอง 1 คัน
C13: (เงินอุดหนุนเฉพาะกิจสำนักงบประมาณปี พ.ศ. 2569)
A15: =COUNT(A9:A14) -> 1 | D15: =SUM(D9:D14) -> 1051000 | E15: =SUM(E9:E14) -> 0
